{"text_format":"3","workbook":"xlsx","n_sheets":5,"sheets":["法人","施設","施設1","【参考】級地区分表","DB"],"not_rendered":{"images":1,"macros":1,"defined_names":120,"comments":1},"read":"whole","date_system":"1900"}

{"sheet":"法人","index":0,"n_rows":356,"n_cols":25,"rows_kept":356,"merged":[[1,0,1,13],[2,0,2,13],[24,1,24,2],[24,4,24,8],[25,1,25,2],[25,3,25,8],[26,1,26,2],[26,3,26,8],[26,10,26,13],[27,1,27,2],[27,3,27,7],[28,1,28,2],[28,4,28,5],[28,6,28,8],[29,1,29,2],[29,3,29,8],[30,1,30,2],[55,1,55,10],[59,1,59,3],[60,1,60,3],[61,1,61,3],[62,1,62,3],[63,1,63,3],[66,1,66,10],[69,1,69,10],[74,1,74,10],[75,1,75,10],[76,1,76,10],[77,1,77,10],[78,1,78,10],[84,1,84,10],[85,1,85,10],[86,1,86,10],[87,1,87,10],[88,1,88,10],[93,1,93,10],[94,1,94,10],[95,1,95,10],[96,1,96,10],[97,1,97,10],[98,1,98,10],[99,3,99,10],[100,1,100,10],[101,1,101,10],[102,1,102,10],[103,1,103,10],[104,1,104,10],[105,1,105,10],[106,3,106,10],[107,1,107,10],[108,3,108,10],[109,1,109,10],[110,3,110,10],[114,1,114,10],[115,1,115,10],[116,1,116,10],[122,1,122,5],[123,1,123,5],[124,1,124,5],[129,1,129,5],[130,1,130,5],[131,1,131,5],[135,1,135,10],[142,1,142,10],[143,1,143,10],[144,1,144,10],[145,1,145,10],[146,1,146,10],[147,1,147,10],[148,1,148,10],[149,1,149,10],[150,1,150,10],[151,1,151,10],[152,1,152,10],[153,1,153,10],[154,1,154,10],[155,3,155,10],[156,1,156,10],[161,1,161,10],[170,1,170,10],[171,1,171,10],[172,1,172,10],[173,1,173,10],[174,1,174,10],[175,1,175,10],[176,1,176,10],[177,1,177,10],[178,1,178,10],[179,1,179,10],[180,3,180,10],[181,1,181,10],[182,1,182,10],[183,1,183,10],[184,1,184,10],[185,1,185,10],[186,1,186,10],[189,3,189,10],[190,1,190,10],[195,1,195,10],[199,1,199,10],[203,1,203,5],[204,1,204,5],[205,1,205,5],[211,1,211,5],[212,1,212,5],[213,1,213,5],[214,1,214,5],[217,1,217,13],[219,1,219,10],[224,1,224,7],[225,1,225,7],[226,1,226,7],[227,1,227,7],[228,1,228,7],[229,1,229,2],[229,3,229,7],[234,1,234,10],[239,1,239,8],[240,1,240,8],[241,1,241,8],[242,3,242,8],[243,1,243,8],[244,3,244,8],[250,1,250,11],[251,1,251,11],[252,1,252,11],[253,1,253,11],[257,1,258,3],[257,4,258,4],[257,5,257,11],[259,1,259,3],[260,1,260,3],[261,1,261,3],[262,1,262,3],[263,1,263,3],[264,1,264,3],[265,1,265,3],[266,1,266,3],[267,2,267,3],[272,1,272,3],[273,1,273,3],[274,1,274,3],[277,1,277,13],[281,1,281,10],[285,1,285,3],[285,4,285,5],[285,6,285,7],[285,8,285,10],[285,11,285,12],[286,1,286,2],[286,4,286,5],[286,6,286,7],[286,8,286,10],[286,11,286,12],[287,1,287,2],[287,4,287,5],[287,6,287,7],[287,8,287,10],[287,11,287,12],[288,1,288,2],[288,4,288,5],[288,6,288,7],[288,8,288,10],[288,11,288,12],[289,1,289,2],[289,4,289,5],[289,6,289,7],[289,8,289,10],[289,11,289,12],[290,1,290,2],[290,4,290,5],[290,6,290,7],[290,8,290,10],[290,11,290,12],[291,1,291,2],[291,4,291,5],[291,6,291,7],[291,8,291,10],[291,11,291,12],[292,1,292,2],[292,4,292,5],[292,6,292,7],[292,8,292,10],[292,11,292,12],[293,2,293,3],[293,4,293,5],[293,6,293,7],[293,8,293,10],[293,11,293,12],[294,2,294,3],[294,4,294,5],[294,6,294,7],[294,8,294,10],[294,11,294,12],[295,2,295,3],[295,4,295,5],[295,6,295,7],[295,8,295,10],[295,11,295,12],[299,1,299,10],[300,1,300,10],[301,1,301,10],[302,1,302,10],[303,1,303,10],[304,1,304,10],[305,3,305,10],[309,1,309,10],[310,1,310,10],[311,1,311,10],[312,1,312,10],[313,1,313,10],[314,1,314,10],[315,1,315,10],[316,1,316,10],[317,3,317,10],[323,1,323,10],[324,1,324,10],[325,1,325,10],[326,3,326,10],[328,1,328,10],[332,1,332,10],[333,1,333,10],[334,1,334,10],[335,3,335,10],[338,1,338,10],[340,1,340,10],[341,1,341,10],[344,1,344,10],[345,1,345,10],[346,1,346,10],[347,1,347,10],[348,3,348,10],[349,1,349,10],[350,1,350,10],[353,1,353,10],[357,1,357,10]]}
[]
["全国社会福祉法人経営者協議会　障害福祉事業経営委員会"]
["「次期報酬改定に向けた意識調査（基礎調査）」"]
{"$rows_empty":19}
[null,"《基本情報》"]
[]
[null," 法人名",null,"社会福祉法人"]
[null," 担当者氏名"]
[null," 現況報告書の法人番号",{"$nulls":8},"［法人番号をWebで調べる］"]
[null," 経営する障害者支援施設の数\n *本調査では、障害者支援施設を\n　 中心にお聞きします。",{"$nulls":6},"カ所"]
[null," 電話番号(※)",null,null,"都道府県"]
[null," E-mailアドレス(※)"]
[null," 法人内で実施しているサービス"]
[null,"　障害者支援施設",null,null,"重度障害者等包括支援"]
[null," ⇒昼間実施サービス",null,null,"計画相談支援"]
[null,"　生活介護",null,null,"地域相談支援（地域移行支援）"]
[null,"　自立訓練（機能訓練）",null,null,"地域相談支援（地域定着支援）"]
[null,"　自立訓練（生活訓練）",null,null,"短期入所"]
[null,"　就労移行支援",null,null,"共同生活援助"]
[null,"　就労継続支援（A型）",null,null,"自立訓練（機能訓練）"]
[null,"　就労継続支援（B型）",null,null,"自立訓練（生活訓練）"]
[null,"　居宅介護",null,null,"宿泊型自立訓練"]
[null,"　重度訪問介護",null,null,"就労移行支援"]
[null,"　同行援護",null,null,"就労継続支援（A型）"]
[null,"　行動援護",null,null,"就労継続支援（B型）"]
[null,"　療養介護",null,null,"自立生活援助"]
[null,"　生活介護",null,null,"就労定着支援"]
[]
[null," 【障害児通所支援等】",null,null,"放課後等デイサービス"]
[null,"　児童発達支援",null,null,"保育所等訪問支援"]
[null,"　居宅訪問型自動発達支援",null,null,"障害児相談支援"]
[null,"※今後やりとりをする連絡先なので、正確に入力して下さい"]
[]
[]
[]
[null,"《意識調査》"]
[]
[null,"【カテゴリ①　平成30年度障害福祉サービス等報酬改定】"]
[]
[null,"平成30年度障害福祉サービス等報酬改定に対する評価について、教えてください。"]
[]
[null,"　とても評価できる"]
[null,"　やや評価できる"]
[null,"　どちらともいえない"]
[null,"　やや評価できない"]
[null,"　まったく評価できない"]
[]
[null,{"$f":"IF(P60>0,\"「\"&INDEX($B$60:$B$64,P60)&\"　」 その理由\",\"その理由\")","v":"その理由"}]
[]
[]
[]
[null,"【カテゴリ②　障害福祉人材の確保】　　※非常勤職員等すべての雇用形態について"]
[]
[null,"①自法人が経営する障害者支援施設における平成30年度の新卒採用の状況について、"]
[null,"   教えてください。"]
[]
[null,"　採用計画数（採用希望数）に十分に達する人員を採用することができた"]
[null,"　採用計画数（採用希望数）に近い人員を採用することができた"]
[null,"　採用計画数（採用希望数）より少し足りない採用数であった"]
[null,"　採用計画数（採用希望数）にまったく届かない採用数であった"]
[null,"　採用予定がなかった"]
[]
[]
[null,"②自法人が経営する障害者支援施設における平成30年度の中途採用の状況について、"]
[null,"   教えてください。"]
[]
[null,"　採用計画数（採用希望数）に十分に達する人員を採用することができた"]
[null,"　採用計画数（採用希望数）に近い人員を採用することができた"]
[null,"　採用計画数（採用希望数）より少し足りない採用数であった"]
[null,"　採用計画数（採用希望数）にまったく届かない採用数であった"]
[null,"　採用予定がなかった"]
[]
[]
[null,"③外国人介護人材に係る制度の活用状況について、教えてください。"]
[]
[null,"　活用している"]
[null,"EPA",{"$nulls":22},{"$f":"COUNTIF(P95:P100,TRUE)","v":0}]
[null,"技能実習"]
[null,"留学"]
[null,"在留資格「介護」"]
[null,"特定技能"]
[null,"その他"]
[null,"　現時点で活用していないが、今後の活用に向け現在具体的な検討を進めている"]
[null,"EPA",{"$nulls":22},{"$f":"COUNTIF(P102:P107,TRUE)","v":0}]
[null,"技能実習"]
[null,"留学"]
[null,"在留資格「介護」"]
[null,"特定技能"]
[null,"その他"]
[null,"　活用に向けて検討したが、活用しないことにした"]
[null,null,"その理由："]
[null,"　活用を検討していない"]
[null,null,"その理由："]
[]
[]
[]
[null," 「外国人材の受入れ・共生のための総合的対応策」では、外国人材を適正に受け入れ、\n 共生社会の実現を図ることにより、日本人と外国人が安心して安全に暮らせる社会の実現に\n 寄与するという目的を達成するため、外国人材の受入れ・共生に関して、目指すべき方向性が\n 示されています。"]
[null,"日本の障害福祉において外国人介護職員を定着させるために制度的にサポートすべきと\n考えられる事項があれば教えてください。"]
[]
[]
[]
[null,"④貴法人が経営する障害者支援施設における65歳以上の高齢者の雇用状況について"]
[null,"　 教えてください。"]
[]
[null,"　積極的に雇用"]
[null,"　必要に応じてバランスを見ながら雇用"]
[null,"　雇用していない"]
[]
[]
[null,"⑤貴法人が経営する障害者支援施設における障害者の雇用状況について教えてください。"]
[]
[null,"　積極的に雇用"]
[null,"　必要に応じてバランスを見ながら雇用"]
[null,"　雇用していない"]
[]
[]
[]
[null,"【カテゴリ③　処遇改善加算】"]
[]
[null,"１．福祉・介護職員処遇改善加算（現行の加算）について"]
[]
[null,"貴法人が経営する障害者支援施設における本加算の算定および賃金改善を行っている"]
[null,"賃金項目を教えてください。"]
[]
[null,"　福祉・介護職員処遇改善加算（現行の加算）を算定"]
[null,"　基本給（ベースアップ、定期昇給）において賃金改善を実施",{"$nulls":22},{"$f":"COUNTIF(P144:P146,TRUE)","v":0}]
[null,"　諸手当において賃金改善を実施"]
[null,"　賞与（一時金）において賃金改善を実施"]
[null,"　その他"]
[null," 賃金バランスを担保するために、法人・事業所の持ち出しで賃金改善を実施していますか"]
[null,"　同加算を算定している事業所の職員に対して実施",{"$nulls":22},{"$f":"COUNTIF(P149:P151,TRUE)","v":0}]
[null,"　同加算を算定していない事業所の職員に対して実施"]
[null,"　実施していない"]
[null," 法人・事業所が持ち出しで実施する賃金改善の対象となる職種を教えてください"]
[null,"（主な３つを選択してください）"]
[null,"　福祉・介護職員　　　　　   生活支援員 　　　　 看護職員　　 　　 機能訓練指導員",{"$nulls":22},{"$f":"COUNTIF(P154:T156,\"TRUE\")","v":0}]
[null,"　サービス管理責任者　 　  事務員　　　　　 　　 栄養士　　　　 　  調理員　　　　　 医師"]
[null,"　その他"]
[null,"　福祉・介護職員処遇改善加算（現行の加算）を算定していない"]
[]
[]
[null,"仕組みそのものに対する問題意識があれば、教えてください。"]
[]
[]
[]
[]
[]
[null,"２．福祉・介護職員等特定処遇改善加算（2019年10月からの新加算）について"]
[]
[null,"貴法人が経営する障害者支援施設における本加算の算定予定および賃金改善を行う予定である"]
[null,"賃金項目を教えてください。"]
[]
[null,"　福祉・介護職員等特定処遇改善加算（2019年10月からの新加算）を算定予定"]
[null,"　基本給（ベースアップ、定期昇給）において賃金改善を実施",{"$nulls":22},{"$f":"COUNTIF(P172:P174,TRUE)","v":0}]
[null,"　諸手当において賃金改善を実施"]
[null,"　賞与（一時金）において賃金改善を実施"]
[null,"　その他"]
[null,"本加算の配分方法（予定）について教えてください"]
[null,"　Aグループ「経験・技能のある障害福祉人材」のみに重点的に配分",{"$nulls":22},{"$f":"COUNTIF(P177:P181,TRUE)","v":0}]
[null,"　Aグループ「経験・技能のある障害福祉人材」およびBグループ「他の障害福祉人材」\n　に配分"]
[null,"　Aグループ「経験・技能のある障害福祉人材」およびBグループ「他の障害福祉人材」\n　およびCグループ「その他の職種」に配分"]
[null,"　特別な事情によりAグループ「経験・技能のある障害福祉人材」を設定せず配分"]
[null,"　その他"]
[null,"賃金バランスを担保するために、法人・事業所の持ち出しで賃金改善を実施していますか"]
[null,"　同加算を算定している事業所の職員に対して実施",{"$nulls":22},{"$f":"COUNTIF(P183:P185,TRUE)","v":0}]
[null,"　同加算を算定していない事業所の職員に対して実施"]
[null,"　実施していない"]
[null," 法人・事業所が持ち出しで実施する賃金改善の対象となる職種を教えてください"]
[null,"（主な３つを選択してください）"]
[null,"　福祉・介護職員　 　  　 　 生活支援員　 　　　看護職員　 　　　 機能訓練指導員",{"$nulls":22},{"$f":"COUNTIF(P188:T190,TRUE)","v":0}]
[null,"　サービス管理責任者　  　 事務員　　 　　　　　栄養士　　　　 　  調理員　　　 　　医師"]
[null,"　その他"]
[null,"　福祉・介護職員等特定処遇改善加算（2019年10月からの新加算）を算定しない予定"]
[]
[]
[null,"仕組みそのものに対する問題意識があれば、教えてください。"]
[]
[]
[]
[]
[]
[null,"【カテゴリ④　多様なニーズへの対応】"]
[]
[null,"障害福祉サービス等の提供に係る意思決定支援ガイドラインを知っていますか。"]
[]
[null,"　知っている"]
[null,"　言葉は知っているが内容はわからない"]
[null,"　知らない"]
[]
[]
[null,"貴法人が経営する障害者支援施設における障害福祉サービス等の提供に係る意思決定ガイドラインの"]
[null,"取組状況について、教えてください。"]
[]
[null,"　実施している"]
[null,"　実施することのできる体制は確保しているが実施していない"]
[null,"　実施体制の整備に向けて検討・準備中である"]
[null,"　実施予定なし"]
[]
[null,"（参考　障害福祉サービス等の提供に係る意思決定支援ガイドライン）"]
[null,"https://www.mhlw.go.jp/file/06-Seisakujouhou-12200000-Shakaiengokyokushougaihokenfukushibu/0000159854.pdf"]
[]
[null,"【カテゴリ⑤　高齢障害者（65歳以上の障害者）に対する支援に関する課題】"]
[]
[null,"高齢障害者（65歳以上の障害者）に対する支援に関する課題があれば、教えてください。"]
[]
[]
[null,"　介護保険制優先原則（障害者総合支援法第7条）の自治体の運用等"]
[null,"　介護保険サービスへ移行する際の利用者負担（低所得者への配慮等）"]
[null,"　高齢化・重度化に対応するための医療的ケアや医療体制"]
[null,"　仕事や作業の確保・マッチング"]
[null,"　いわゆる「親なき後」の支援"]
[null,"　その他"]
[]
[]
[]
[]
[null,"【カテゴリ⑥　共生型サービス】"]
[]
[null,"共生型サービスの実施状況について、教えてください。"]
[]
[]
[null,"　実施している"]
[null,"　現時点で実施していないが、今後の実施に向け現在具体的な検討を進めている"]
[null,"　実施に向けて検討したが、実施しないことにした"]
[null,null,"その理由："]
[null,"　実施を検討していない"]
[null,null,"その理由："]
[]
[]
[]
[]
[]
[null," 厚生労働省は、制度・分野ごとの『縦割り』や「支え手」「受け手」という関係を超えて、地域住民や"]
[null," 地域の多様な主体が『我が事』として参画し、人と人、人と資源が世代や分野を超えて『丸ごと』"]
[null," つながることで、住民一人ひとりの暮らしと生きがい、地域をともに創っていく地域共生社会の実現を"]
[null," 目指しています。"]
[null,"地域共生社会の実現に向けて、制度のはざまにある生活・福祉課題に対し、貴法人が経営する"]
[null,"障害者支援施設において実践されている取組について教えてください。"]
[]
[{"$nulls":4},"単独で実施","連携・協働により実施"]
[{"$nulls":5},"自治体","社会福祉協議会","地域住民","社会福祉法人","NPO法人等関係団体","民間企業","その他"]
[null," 地域の要支援者に対する相談支援",{"$nulls":22},{"$f":"COUNTIF(Q260:X260,TRUE)+P260","v":0}]
[null," 地域の要支援者に対する権利擁護支援",{"$nulls":22},{"$f":"COUNTIF(Q261:X261,TRUE)+P261","v":0}]
[null," 既存事業の利用料の減額・免除",{"$nulls":22},0]
[null," 地域住民に対する福祉教育",{"$nulls":22},0]
[null," 地域の要支援者に対する配食・見守り・移動等の\n 生活支援",{"$nulls":22},0]
[null," 地域の要支援者に対する資金や物資の貸付・提供",{"$nulls":22},0]
[null," 地域の福祉ニーズ等を把握するためのサロン活動",{"$nulls":22},0]
[null," 地域の関係者とのネットワークづくり",{"$nulls":22},0]
[null," その他",{"$nulls":22},0]
[]
[]
[]
[null,"連携・協働している機関　その他名称"]
[]
[]
[]
[]
[null,"（参考　「地域共生社会」の実現に向けて）"]
[null,"https://www.mhlw.go.jp/stf/newpage_00506.html"]
[]
[]
[]
[null,"【カテゴリ⑦　ICT、ロボット等の活用】"]
[]
[null,"貴法人が経営する障害者支援施設において、ICT,ロボット等の機器を導入していますか。"]
[]
[{"$nulls":4},"導入している",null,"近々導入予定",null,"導入したいが、\n障壁があり\n導入できていない",null,null,"導入予定なし"]
[null," 移乗支援（装着型）"]
[null," 移乗支援（非装着型）"]
[null," 移動支援"]
[null," 排泄支援"]
[null," 見守り"]
[null," コミュニケーション"]
[null," 入浴支援"]
[null," その他1"]
[null," その他2"]
[null," その他3"]
[]
[null,"障壁となっていることについて、教えてください（主な３つを選択してください）。"]
[]
[null,"導入費用が高額であるため",{"$nulls":22},{"$f":"COUNTIF(P300:P306,TRUE)","v":0}]
[null,"利用者の安全確保に不安があるため"]
[null,"職員の安全確保に不安があるため"]
[null,"導入の可否を判断するための機器に関する情報が少ないため"]
[null,"研修や使い方の周知の方法に不安があるため"]
[null,"機器の操作が難しそうであるため"]
[null,"その他"]
[]
[null,"ICT、ロボット等の導入のきっかけについて、教えてください。"]
[]
[null,"利用者の負担軽減",{"$nulls":22},{"$f":"COUNTIF(P310:P318,TRUE)","v":0}]
[null,"職員の負担軽減"]
[null,"職員の確保"]
[null,"職員の離職防止"]
[null,"ヒヤリハット・介護事故の防止"]
[null,"費用対効果"]
[null,"業務効率化"]
[null,"テスト導入"]
[null,"その他"]
[]
[]
[]
[null,"ICT、ロボット等の導入メリットについて、どのように感じていますか。"]
[]
[null,"サービスの質の向上につながった",{"$nulls":22},{"$f":"COUNTIF(P324:P327,TRUE)","v":0}]
[null,"安全・安心な職場づくり（障害福祉人材の負担軽減）につながった"]
[null,"人員削減につながった"]
[null,"その他",{"$nulls":13},false]
[]
[null,"【カテゴリ⑧　災害支援の取組】"]
[]
[null,"災害支援の取組の実施状況（体制整備含む）について、教えてください。"]
[]
[null,"危機管理・事業継続（BCM）体制の整備",{"$nulls":13},false,{"$nulls":8},{"$f":"COUNTIF(P333:P336,TRUE)","v":0}]
[null,"発災時の対応に関する地域住民との連絡・調整",{"$nulls":13},false]
[null,"災害派遣福祉チームへの職員派遣（登録）",{"$nulls":13},false]
[null,"その他",{"$nulls":13},false]
[]
[]
[null,"【カテゴリ⑨　障害福祉サービス経営主体の統合・再編等】"]
[]
[null," 障害福祉サービス等の事業を行う複数の経営主体の大規模化、統合・再編等に関して、"]
[null," 財政制度等審議会財政制度分科会等においてさまざまな議論が行われています。"]
[null,"今後、中長期的に障害福祉サービス経営主体の統合・再編が必要になると考えていますか。"]
[]
[null,"　必要となると考えている"]
[null,"人材確保が困難になるため",{"$nulls":22},{"$f":"COUNTIF(P346:P349,TRUE)","v":0}]
[null,"後継者が不足するため"]
[null,"人口減少等にともない福祉ニーズ自体が大幅に変化するため"]
[null,"その他"]
[null,"　必要ではないと考えている"]
[null,"　わからない"]
[]
[]
[null,"【カテゴリ⑩　その他】"]
[]
[null,"本会の活動について、ご意見・ご要望をお聞かせください。"]

{"sheet":"施設","index":1,"n_rows":127,"n_cols":17,"rows_kept":127,"hidden":true,"merged":[[2,0,2,11],[5,2,5,6],[7,2,7,8],[9,4,9,5],[20,1,20,2],[20,4,20,5],[20,6,20,7],[21,1,22,2],[23,1,24,2],[25,1,26,2],[27,1,28,2],[29,1,30,2],[31,1,32,2],[39,1,39,3],[40,1,40,3],[47,1,47,7],[48,1,48,7],[49,1,49,7],[50,1,50,7],[51,1,51,7],[52,1,52,7],[53,1,53,7],[54,1,54,7],[59,1,59,7],[60,1,60,7],[61,1,61,7],[62,1,62,7],[63,1,63,7],[64,1,64,7],[65,1,65,7],[66,1,66,7],[67,1,67,7],[68,1,68,7],[69,1,69,7],[70,1,70,7],[71,2,71,6],[78,1,78,7],[79,1,79,7],[80,1,80,7],[81,1,81,7],[82,1,82,7],[87,1,87,7],[88,1,88,7],[89,1,89,7],[94,1,94,7],[100,1,100,7],[101,1,101,7],[102,1,102,7],[103,1,103,7],[104,1,104,7],[109,1,109,7],[110,1,110,7],[113,2,113,5],[116,2,116,5],[116,6,116,11],[117,2,117,5],[117,6,117,11],[118,2,118,5],[118,6,118,11],[119,2,119,5],[119,6,119,11],[120,2,120,5],[120,6,120,11],[121,2,121,5],[121,6,121,11],[122,2,122,5],[122,6,122,11],[123,2,123,5],[123,6,123,11],[124,2,124,5],[124,6,124,11],[125,2,125,5],[125,6,125,11],[126,2,126,5],[126,6,126,11]]}
[]
[]
[]
[null,"《基本情報》"]
[]
[null,"施設名"]
[]
[null,"所在地"]
[]
[null,"級地区分",null,"▼","級地区分表参照"]
[]
[]
[null,"《サービスの実施状況》"]
[]
[null,"① 日中活動"]
[null,"「指定されている昼間実施サービス」の種類について、実施しているサービスの種類に"]
[null,"チェックしてください。"]
[null,"また、10月中の利用者が「あり」の場合は、「利用実人数」（10月31日現在）、"]
[null,"「利用延人数」（10月中）も記入してください。"]
[]
[null,"サービスの種類",null,null,"利用実人数",null,"利用延人数"]
[null,"生活介護",null,"入所者",null,"人",null,"人"]
[{"$nulls":3},"通所者",null,"人",null,"人"]
[null,"自立訓練（機能訓練）",null,"入所者",null,"人",null,"人"]
[{"$nulls":3},"通所者",null,"人",null,"人"]
[null,"自立訓練（生活訓練）",null,"入所者",null,"人",null,"人"]
[{"$nulls":3},"通所者",null,"人",null,"人"]
[null,"就労移行支援",null,"入所者",null,"人",null,"人"]
[{"$nulls":3},"通所者",null,"人",null,"人"]
[null,"就労継続支援（A型）",null,"入所者",null,"人",null,"人"]
[{"$nulls":3},"通所者",null,"人",null,"人"]
[null,"就労継続支援（B型）",null,"入所者",null,"人",null,"人"]
[{"$nulls":3},"通所者",null,"人",null,"人"]
[]
[]
[null,"② 施設入所支援"]
[null,"障害者支援施設における施設入所支援の定員・利用者数に関して、"]
[null,"令和元年10月31日現在の状況を回答してください。"]
[]
[null,"定員"]
[null,"実利用者数（現員）"]
[]
[]
[null,"《収支について》"]
[]
[null,"サービス活動増減差額の状況について教えてください。"]
[]
[null,"　平成29年度は黒字で平成30年度も黒字（差額増加）",{"$nulls":13},"Rng収支"]
[null,"　平成29年度は黒字で平成30年度も黒字（差額横ばい）"]
[null,"　平成29年度は黒字で平成30年度も黒字（差額下降）"]
[null,"　平成29年度は黒字であったが平成30年度は赤字"]
[null,"　平成29年度は赤字で平成30年度も赤字（差額増加）"]
[null,"　平成29年度は赤字で平成30年度も赤字（差額横ばい）"]
[null,"　平成29年度は赤字で平成30年度も赤字（差額下降）"]
[null,"　平成29年度は赤字であったが平成30年度は黒字"]
[]
[]
[null,"サービス活動増減差額の変化の要因について教えてください（最大3つまで選択可）。"]
[]
[null,"　重度の利用者増",{"$nulls":14},{"$f":"COUNTIF(O60:O72,TRUE)","v":0}]
[null,"　重度の利用者減"]
[null,"　稼動率の増"]
[null,"　稼動率の減"]
[null,"　常勤比率の上"]
[null,"　常勤比率の下"]
[null,"　職員処遇の引き上げ"]
[null,"　職員処遇の引き下げ"]
[null,"　経営努力により人件費以外の支出減"]
[null,"　経営努力により人件費以外の支出増"]
[null,"　報酬改定がプラスに働いた"]
[null,"　報酬改定がマイナスに働いた"]
[null,"　その他　　　　　（",{"$nulls":5},"）"]
[]
[]
[null,"稼働率の状況について教えてください。"]
[]
[null,"平成30年度は、平成29年度に比べ"]
[]
[null,"　大きく増加",{"$nulls":13},"Rng稼働率"]
[null,"　やや増加"]
[null,"　変わらない"]
[null,"　やや減少"]
[null,"　大きく減少"]
[]
[]
[null,"⇒今後の見通しについて教えてください。"]
[]
[null,"　増加見込",{"$nulls":13},"Rng今後"]
[null,"　変わらない"]
[null,"　減少見込"]
[]
[]
[null,"⇒稼働率を高めるために実施している取組があれば、教えてください。"]
[]
[]
[]
[]
[null,"同施設に所属する介護職員の現状の賃金水準について、同地域に所在する"]
[null,"企業等の賃金水準と比べ、どのように感じていますか。"]
[null,"同施設に所属する介護職員の賃金水準は、"]
[null,"　とても高い",{"$nulls":13},"Rng同施設"]
[null,"　やや高い"]
[null,"　同じ程度"]
[null,"　やや低い"]
[null,"　とても低い"]
[]
[]
[null,"算定したいが、できない加算について。"]
[]
[null,"　算定したいができない加算がある",{"$nulls":13},"Rng同施設"]
[null,"　算定したいができない加算はない"]
[]
[]
[]
[null,"※行の削除はできません"]
[]
[null,"サービス名","具体的な加算名",{"$nulls":3},"その理由"]
[1,{"$nulls":13},{"$f":"IF(ISERROR(VLOOKUP(B118,DB!$E$12:$F$17,2,FALSE)),\"\",\"DB!\"&VLOOKUP(B118,DB!$E$12:$F$17,2,FALSE))","v":""}]
[2,{"$nulls":13},{"$f":"IF(ISERROR(VLOOKUP(B119,DB!$E$12:$F$17,2,FALSE)),\"\",\"DB!\"&VLOOKUP(B119,DB!$E$12:$F$17,2,FALSE))","v":""}]
[3,{"$nulls":13},{"$f":"IF(ISERROR(VLOOKUP(B120,DB!$E$12:$F$17,2,FALSE)),\"\",\"DB!\"&VLOOKUP(B120,DB!$E$12:$F$17,2,FALSE))","v":""}]
[4,{"$nulls":13},{"$f":"IF(ISERROR(VLOOKUP(B121,DB!$E$12:$F$17,2,FALSE)),\"\",\"DB!\"&VLOOKUP(B121,DB!$E$12:$F$17,2,FALSE))","v":""}]
[5,{"$nulls":13},{"$f":"IF(ISERROR(VLOOKUP(B122,DB!$E$12:$F$17,2,FALSE)),\"\",\"DB!\"&VLOOKUP(B122,DB!$E$12:$F$17,2,FALSE))","v":""}]
[6,{"$nulls":13},{"$f":"IF(ISERROR(VLOOKUP(B123,DB!$E$12:$F$17,2,FALSE)),\"\",\"DB!\"&VLOOKUP(B123,DB!$E$12:$F$17,2,FALSE))","v":""}]
[7,{"$nulls":13},{"$f":"IF(ISERROR(VLOOKUP(B124,DB!$E$12:$F$17,2,FALSE)),\"\",\"DB!\"&VLOOKUP(B124,DB!$E$12:$F$17,2,FALSE))","v":""}]
[8,{"$nulls":13},{"$f":"IF(ISERROR(VLOOKUP(B125,DB!$E$12:$F$17,2,FALSE)),\"\",\"DB!\"&VLOOKUP(B125,DB!$E$12:$F$17,2,FALSE))","v":""}]
[9,{"$nulls":13},{"$f":"IF(ISERROR(VLOOKUP(B126,DB!$E$12:$F$17,2,FALSE)),\"\",\"DB!\"&VLOOKUP(B126,DB!$E$12:$F$17,2,FALSE))","v":""}]
[10,{"$nulls":13},{"$f":"IF(ISERROR(VLOOKUP(B127,DB!$E$12:$F$17,2,FALSE)),\"\",\"DB!\"&VLOOKUP(B127,DB!$E$12:$F$17,2,FALSE))","v":""}]

{"sheet":"施設1","index":2,"n_rows":127,"n_cols":17,"rows_kept":127,"merged":[[2,0,2,11],[5,2,5,6],[7,2,7,8],[9,4,9,5],[20,1,20,2],[20,4,20,5],[20,6,20,7],[21,1,22,2],[23,1,24,2],[25,1,26,2],[27,1,28,2],[29,1,30,2],[31,1,32,2],[39,1,39,3],[40,1,40,3],[47,1,47,7],[48,1,48,7],[49,1,49,7],[50,1,50,7],[51,1,51,7],[52,1,52,7],[53,1,53,7],[54,1,54,7],[59,1,59,7],[60,1,60,7],[61,1,61,7],[62,1,62,7],[63,1,63,7],[64,1,64,7],[65,1,65,7],[66,1,66,7],[67,1,67,7],[68,1,68,7],[69,1,69,7],[70,1,70,7],[71,2,71,6],[78,1,78,7],[79,1,79,7],[80,1,80,7],[81,1,81,7],[82,1,82,7],[87,1,87,7],[88,1,88,7],[89,1,89,7],[94,1,94,7],[100,1,100,7],[101,1,101,7],[102,1,102,7],[103,1,103,7],[104,1,104,7],[109,1,109,7],[110,1,110,7],[113,2,113,5],[116,2,116,5],[116,6,116,11],[117,2,117,5],[117,6,117,11],[118,2,118,5],[118,6,118,11],[119,2,119,5],[119,6,119,11],[120,2,120,5],[120,6,120,11],[121,2,121,5],[121,6,121,11],[122,2,122,5],[122,6,122,11],[123,2,123,5],[123,6,123,11],[124,2,124,5],[124,6,124,11],[125,2,125,5],[125,6,125,11],[126,2,126,5],[126,6,126,11]]}
[]
[]
[]
[null,"《基本情報》"]
[]
[null,"施設名"]
[]
[null,"所在地"]
[]
[null,"級地区分",null,"▼","級地区分表参照"]
[]
[]
[null,"《サービスの実施状況》"]
[]
[null,"① 日中活動"]
[null,"「指定されている昼間実施サービス」の種類について、実施しているサービスの種類に"]
[null,"チェックしてください。"]
[null,"また、10月中の利用者が「あり」の場合は、「利用実人数」（10月31日現在）、"]
[null,"「利用延人数」（10月中）も記入してください。"]
[]
[null,"サービスの種類",null,null,"利用実人数",null,"利用延人数"]
[null,"生活介護",null,"入所者",null,"人",null,"人"]
[{"$nulls":3},"通所者",null,"人",null,"人"]
[null,"自立訓練（機能訓練）",null,"入所者",null,"人",null,"人"]
[{"$nulls":3},"通所者",null,"人",null,"人"]
[null,"自立訓練（生活訓練）",null,"入所者",null,"人",null,"人"]
[{"$nulls":3},"通所者",null,"人",null,"人"]
[null,"就労移行支援",null,"入所者",null,"人",null,"人"]
[{"$nulls":3},"通所者",null,"人",null,"人"]
[null,"就労継続支援（A型）",null,"入所者",null,"人",null,"人"]
[{"$nulls":3},"通所者",null,"人",null,"人"]
[null,"就労継続支援（B型）",null,"入所者",null,"人",null,"人"]
[{"$nulls":3},"通所者",null,"人",null,"人"]
[]
[]
[null,"② 施設入所支援"]
[null,"障害者支援施設における施設入所支援の定員・利用者数に関して、"]
[null,"令和元年10月31日現在の状況を回答してください。"]
[]
[null,"定員"]
[null,"実利用者数（現員）"]
[]
[]
[null,"《収支について》"]
[]
[null,"サービス活動増減差額の状況について教えてください。"]
[]
[null,"　平成29年度は黒字で平成30年度も黒字（差額増加）",{"$nulls":13},"Rng収支"]
[null,"　平成29年度は黒字で平成30年度も黒字（差額横ばい）"]
[null,"　平成29年度は黒字で平成30年度も黒字（差額下降）"]
[null,"　平成29年度は黒字であったが平成30年度は赤字"]
[null,"　平成29年度は赤字で平成30年度も赤字（差額増加）"]
[null,"　平成29年度は赤字で平成30年度も赤字（差額横ばい）"]
[null,"　平成29年度は赤字で平成30年度も赤字（差額下降）"]
[null,"　平成29年度は赤字であったが平成30年度は黒字"]
[]
[]
[null,"サービス活動増減差額の変化の要因について教えてください（最大3つまで選択可）。"]
[]
[null,"　重度の利用者増",{"$nulls":14},{"$f":"COUNTIF(O60:O72,TRUE)","v":0}]
[null,"　重度の利用者減"]
[null,"　稼動率の増"]
[null,"　稼動率の減"]
[null,"　常勤比率の上"]
[null,"　常勤比率の下"]
[null,"　職員処遇の引き上げ"]
[null,"　職員処遇の引き下げ"]
[null,"　経営努力により人件費以外の支出減"]
[null,"　経営努力により人件費以外の支出増"]
[null,"　報酬改定がプラスに働いた"]
[null,"　報酬改定がマイナスに働いた"]
[null,"　その他　　　　　（",{"$nulls":5},"）"]
[]
[]
[null,"稼働率の状況について教えてください。"]
[]
[null,"平成30年度は、平成29年度に比べ"]
[]
[null,"　大きく増加",{"$nulls":13},"Rng稼働率"]
[null,"　やや増加"]
[null,"　変わらない"]
[null,"　やや減少"]
[null,"　大きく減少"]
[]
[]
[null,"⇒今後の見通しについて教えてください。"]
[]
[null,"　増加見込",{"$nulls":13},"Rng今後"]
[null,"　変わらない"]
[null,"　減少見込"]
[]
[]
[null,"⇒稼働率を高めるために実施している取組があれば、教えてください。"]
[]
[]
[]
[]
[null,"同施設に所属する介護職員の現状の賃金水準について、同地域に所在する"]
[null,"企業等の賃金水準と比べ、どのように感じていますか。"]
[null,"同施設に所属する介護職員の賃金水準は、"]
[null,"　とても高い",{"$nulls":13},"Rng同施設"]
[null,"　やや高い"]
[null,"　同じ程度"]
[null,"　やや低い"]
[null,"　とても低い"]
[]
[]
[null,"算定したいが、できない加算について。"]
[]
[null,"　算定したいができない加算がある",{"$nulls":13},"Rng同施設"]
[null,"　算定したいができない加算はない"]
[]
[]
[]
[null,"※行の削除はできません"]
[]
[null,"サービス名","具体的な加算名",{"$nulls":3},"その理由"]
[1,{"$nulls":13},{"$f":"IF(ISERROR(VLOOKUP(B118,DB!$E$12:$F$17,2,FALSE)),\"\",\"DB!\"&VLOOKUP(B118,DB!$E$12:$F$17,2,FALSE))","v":""}]
[2,{"$nulls":13},{"$f":"IF(ISERROR(VLOOKUP(B119,DB!$E$12:$F$17,2,FALSE)),\"\",\"DB!\"&VLOOKUP(B119,DB!$E$12:$F$17,2,FALSE))","v":""}]
[3,{"$nulls":13},{"$f":"IF(ISERROR(VLOOKUP(B120,DB!$E$12:$F$17,2,FALSE)),\"\",\"DB!\"&VLOOKUP(B120,DB!$E$12:$F$17,2,FALSE))","v":""}]
[4,{"$nulls":13},{"$f":"IF(ISERROR(VLOOKUP(B121,DB!$E$12:$F$17,2,FALSE)),\"\",\"DB!\"&VLOOKUP(B121,DB!$E$12:$F$17,2,FALSE))","v":""}]
[5,{"$nulls":13},{"$f":"IF(ISERROR(VLOOKUP(B122,DB!$E$12:$F$17,2,FALSE)),\"\",\"DB!\"&VLOOKUP(B122,DB!$E$12:$F$17,2,FALSE))","v":""}]
[6,{"$nulls":13},{"$f":"IF(ISERROR(VLOOKUP(B123,DB!$E$12:$F$17,2,FALSE)),\"\",\"DB!\"&VLOOKUP(B123,DB!$E$12:$F$17,2,FALSE))","v":""}]
[7,{"$nulls":13},{"$f":"IF(ISERROR(VLOOKUP(B124,DB!$E$12:$F$17,2,FALSE)),\"\",\"DB!\"&VLOOKUP(B124,DB!$E$12:$F$17,2,FALSE))","v":""}]
[8,{"$nulls":13},{"$f":"IF(ISERROR(VLOOKUP(B125,DB!$E$12:$F$17,2,FALSE)),\"\",\"DB!\"&VLOOKUP(B125,DB!$E$12:$F$17,2,FALSE))","v":""}]
[9,{"$nulls":13},{"$f":"IF(ISERROR(VLOOKUP(B126,DB!$E$12:$F$17,2,FALSE)),\"\",\"DB!\"&VLOOKUP(B126,DB!$E$12:$F$17,2,FALSE))","v":""}]
[10,{"$nulls":13},{"$f":"IF(ISERROR(VLOOKUP(B127,DB!$E$12:$F$17,2,FALSE)),\"\",\"DB!\"&VLOOKUP(B127,DB!$E$12:$F$17,2,FALSE))","v":""}]

{"sheet":"【参考】級地区分表","index":3,"n_rows":0,"n_cols":0,"rows_kept":0}

{"sheet":"DB","index":4,"n_rows":58,"n_cols":241,"rows_kept":58,"hidden":true}
[]
[null,"都道府県","法人名","担当者氏名","現況報告書の法人番号","経営する障害福祉施設数","電話番号","E-mailアドレス","障害者\n支援施設","障害者\n生活介護","障害者\n自立_機能","障害者\n自立_生活","障害者\n就労移行","障害者\n就労_A型","障害者\n就労_B型","居宅介護","重度訪問介護","同行援護","行動援護","療養介護","生活介護","重度障害者等包括支援","計画相談支援","地域相談支援（地域移行支援）","地域相談支援（地域定着支援）","短期入所","共同生活援助","自立訓練（機能訓練）","自立訓練（生活訓練）","宿泊型自立訓練","就労移行支援","就労継続支援（A型）","就労継続支援（B型）","自立生活援助","就労定着支援","児童発達支援","居宅訪問型自動発達支援","放課後等デイサービス","保育所等訪問支援","障害児相談支援","カテゴリ①","理由","カテゴリ②_①","カテゴリ②_②","カテゴリ②_③","カテゴリ②_③\nChk1_1","カテゴリ②_③\nChk1_2","カテゴリ②_③\nChk1_3","カテゴリ②_③\nChk1_4","カテゴリ②_③\nChk1_5","カテゴリ②_③\nChk1_6","カテゴリ②_③\nChk2_1","カテゴリ②_③\nChk2_2","カテゴリ②_③\nChk2_3","カテゴリ②_③\nChk2_4","カテゴリ②_③\nChk2_5","カテゴリ②_③\nChk2_6","活用している\n理由","現時点検討しない\n理由","検討したが\n理由","検討しない\n理由","制度的なサポート","カテゴリ②_④","カテゴリ②_⑤","カテゴリ③1","カテゴリ③1\nChk1_1","カテゴリ③1\nChk1_2","カテゴリ③1\nChk1_3","カテゴリ③1\nChk1_4","カテゴリ③1\nChk2_1","カテゴリ③1\nChk2_2","カテゴリ③1\nChk2_3","カテゴリ③1\nChk3_1","カテゴリ③1\nChk3_2","カテゴリ③1\nChk3_3","カテゴリ③1\nChk3_4","カテゴリ③1\nChk3_5","カテゴリ③1\nChk3_6","カテゴリ③1\nChk3_7","カテゴリ③1\nChk3_8","カテゴリ③1\nChk3_9","カテゴリ③1\nChk3_10","カテゴリ③1\nChk3_その他","問題意識1","カテゴリ③2","カテゴリ③2\nChk1_1","カテゴリ③2\nChk1_2","カテゴリ③2\nChk1_3","カテゴリ③2\nChk1_4","カテゴリ③2\nChk2_1","カテゴリ③2\nChk2_2","カテゴリ③2\nChk2_3","カテゴリ③2\nChk2_4","カテゴリ③2\nChk2_5","カテゴリ③2\nChk2_5その他","カテゴリ③2\nChk3_1","カテゴリ③2\nChk3_2","カテゴリ③2\nChk3_3","カテゴリ③2\nChk4_1","カテゴリ③2\nChk4_2","カテゴリ③2\nChk4_3","カテゴリ③2\nChk4_4","カテゴリ③2\nChk4_5","カテゴリ③2\nChk4_6","カテゴリ③2\nChk4_7","カテゴリ③2\nChk4_8","カテゴリ③2\nChk4_9","カテゴリ③2\nChk4_10","カテゴリ③2\nChk4_10その他","問題意識2","カテゴリ④1","カテゴリ④2","カテゴリ⑤","カテゴリ⑤その他","カテゴリ⑥","カテゴリ⑥検討のみ","カテゴリ⑥検討なし","カテゴリ⑥\nOpt2_1","カテゴリ⑥\nChk2_1a","カテゴリ⑥\nChk2_1b","カテゴリ⑥\nChk2_1c","カテゴリ⑥\nChk2_1d","カテゴリ⑥\nChk2_1e","カテゴリ⑥\nChk2_1f","カテゴリ⑥\nChk2_1g","カテゴリ⑥\nOpt2_2","カテゴリ⑥\nChk2_2a","カテゴリ⑥\nChk2_2b","カテゴリ⑥\nChk2_2c","カテゴリ⑥\nChk2_2d","カテゴリ⑥\nChk2_2e","カテゴリ⑥\nChk2_2f","カテゴリ⑥\nChk2_2g","カテゴリ⑥\nOpt2_3","カテゴリ⑥\nChk2_3a","カテゴリ⑥\nChk2_3b","カテゴリ⑥\nChk2_3c","カテゴリ⑥\nChk2_3d","カテゴリ⑥\nChk2_3e","カテゴリ⑥\nChk2_3f","カテゴリ⑥\nChk2_3g","カテゴリ⑥\nOpt2_4","カテゴリ⑥\nChk2_4a","カテゴリ⑥\nChk2_4b","カテゴリ⑥\nChk2_4c","カテゴリ⑥\nChk2_4d","カテゴリ⑥\nChk2_4e","カテゴリ⑥\nChk2_4f","カテゴリ⑥\nChk2_4g","カテゴリ⑥\nOpt2_5","カテゴリ⑥\nChk2_5a","カテゴリ⑥\nChk2_5b","カテゴリ⑥\nChk2_5c","カテゴリ⑥\nChk2_5d","カテゴリ⑥\nChk2_5e","カテゴリ⑥\nChk2_5f","カテゴリ⑥\nChk2_5g","カテゴリ⑥\nOpt2_6","カテゴリ⑥\nChk2_6a","カテゴリ⑥\nChk2_6b","カテゴリ⑥\nChk2_6c","カテゴリ⑥\nChk2_6d","カテゴリ⑥\nChk2_6e","カテゴリ⑥\nChk2_6f","カテゴリ⑥\nChk2_6g","カテゴリ⑥\nOpt2_7","カテゴリ⑥\nChk2_7a","カテゴリ⑥\nChk2_7b","カテゴリ⑥\nChk2_7c","カテゴリ⑥\nChk2_7d","カテゴリ⑥\nChk2_7e","カテゴリ⑥\nChk2_7f","カテゴリ⑥\nChk2_7g","カテゴリ⑥\nOpt2_8","カテゴリ⑥\nChk2_8a","カテゴリ⑥\nChk2_8b","カテゴリ⑥\nChk2_8c","カテゴリ⑥\nChk2_8d","カテゴリ⑥\nChk2_8e","カテゴリ⑥\nChk2_8f","カテゴリ⑥\nChk2_8g","カテゴリ⑥\nOpt2_9","カテゴリ⑥\nChk2_9a","カテゴリ⑥\nChk2_9b","カテゴリ⑥\nChk2_9c","カテゴリ⑥\nChk2_9d","カテゴリ⑥\nChk2_9e","カテゴリ⑥\nChk2_9f","カテゴリ⑥\nChk2_9g","カテゴリ⑥\n9その他","カテゴリ⑥\n連携その他1","カテゴリ⑥\n連携その他2","カテゴリ⑥\n連携その他3","カテゴリ⑦\nopt1_1","カテゴリ⑦\nopt1_2","カテゴリ⑦\nopt1_3","カテゴリ⑦\nopt1_4","カテゴリ⑦\nopt1_5","カテゴリ⑦\nopt1_⑦","カテゴリ⑦\nopt1_7","カテゴリ⑦\nopt1_8","カテゴリ⑦\nopt1_9","カテゴリ⑦\nopt1_10","カテゴリ⑦\nその他1","カテゴリ⑦\nその他2","カテゴリ⑦\nその他3","カテゴリ⑦\nchk2_1","カテゴリ⑦\nchk2_2","カテゴリ⑦\nchk2_3","カテゴリ⑦\nchk2_4","カテゴリ⑦\nchk2_5","カテゴリ⑦\nchk2_6","カテゴリ⑦\nchk2_7","カテゴリ⑦\nChk2_7ｺﾒﾝﾄ","カテゴリ⑦\nchk3_1","カテゴリ⑦\nchk3_2","カテゴリ⑦\nchk3_3","カテゴリ⑦\nchk3_4","カテゴリ⑦\nchk3_5","カテゴリ⑦\nchk3_⑦","カテゴリ⑦\nchk3_7","カテゴリ⑦\nchk3_8","カテゴリ⑦\nchk3_9","カテゴリ⑦\nChk3_9ｺﾒﾝﾄ","カテゴリ⑦\nchk4_1","カテゴリ⑦\nchk4_2","カテゴリ⑦\nchk4_3","カテゴリ⑦\nchk4_4","カテゴリ⑦\nchk4_4ｺﾒﾝﾄ","カテゴリ⑧\nChk1","カテゴリ⑧\nChk2","カテゴリ⑧\nChk3","カテゴリ⑧\nChk4","カテゴリ⑧\nChk4ｺﾒﾝﾄ","カテゴリ⑨\nOpt","カテゴリ⑨\nChk1","カテゴリ⑨\nChk2","カテゴリ⑨\nChk3","カテゴリ⑨\nChk4","カテゴリ⑨\nChk4ｺﾒﾝﾄ","カテゴリ⑧\nｺﾒﾝﾄ"]
[null,{"$f":"法人!$G$29","v":0},{"$f":"法人!$E$25","v":0},{"$f":"法人!D26","v":0},{"$f":"法人!D27","v":0},{"$f":"法人!D28","v":0},{"$f":"法人!D29","v":0},{"$f":"法人!D30","v":0},{"$f":"法人!$P$32","v":0},{"$f":"法人!P34","v":0},{"$f":"法人!P35","v":0},{"$f":"法人!P36","v":0},{"$f":"法人!P37","v":0},{"$f":"法人!P38","v":0},{"$f":"法人!P39","v":0},{"$f":"法人!P40","v":0},{"$f":"法人!P41","v":0},{"$f":"法人!P42","v":0},{"$f":"法人!P43","v":0},{"$f":"法人!P44","v":0},{"$f":"法人!P45","v":0},{"$f":"法人!Q32","v":0},{"$f":"法人!Q33","v":0},{"$f":"法人!Q34","v":0},{"$f":"法人!Q35","v":0},{"$f":"法人!Q36","v":0},{"$f":"法人!Q37","v":0},{"$f":"法人!Q38","v":0},{"$f":"法人!Q39","v":0},{"$f":"法人!Q40","v":0},{"$f":"法人!Q41","v":0},{"$f":"法人!Q42","v":0},{"$f":"法人!Q43","v":0},{"$f":"法人!Q44","v":0},{"$f":"法人!Q45","v":0},{"$f":"法人!P48","v":0},{"$f":"法人!P49","v":0},{"$f":"法人!Q47","v":0},{"$f":"法人!Q48","v":0},{"$f":"法人!Q49","v":0},{"$f":"法人!$P$60","v":0},{"$f":"法人!$B$67","v":0},{"$f":"法人!$P$75","v":0},{"$f":"法人!$P$85","v":0},{"$f":"法人!$P$94","v":0},{"$f":"法人!P95","v":0},{"$f":"法人!P96","v":0},{"$f":"法人!P97","v":0},{"$f":"法人!P98","v":0},{"$f":"法人!P99","v":0},{"$f":"法人!$P$100","v":0},{"$f":"法人!P102","v":0},{"$f":"法人!P103","v":0},{"$f":"法人!P104","v":0},{"$f":"法人!P105","v":0},{"$f":"法人!P106","v":0},{"$f":"法人!$P$107","v":0},{"$f":"法人!$D$100","v":0},{"$f":"法人!$D$107","v":0},{"$f":"法人!$D$109","v":0},{"$f":"法人!$D$111","v":0},{"$f":"法人!$B$117","v":0},{"$f":"法人!$P$123","v":0},{"$f":"法人!$P$130","v":0},{"$f":"法人!$P$143","v":0},{"$f":"法人!P144","v":0},{"$f":"法人!P145","v":0},{"$f":"法人!P146","v":0},{"$f":"法人!$P$147","v":0},{"$f":"法人!P149","v":0},{"$f":"法人!P150","v":0},{"$f":"法人!P151","v":0},{"$f":"法人!P154","v":0},{"$f":"法人!Q154","v":0},{"$f":"法人!R154","v":0},{"$f":"法人!S154","v":0},{"$f":"法人!P155","v":0},{"$f":"法人!Q155","v":0},{"$f":"法人!R155","v":0},{"$f":"法人!S155","v":0},{"$f":"法人!T155","v":0},{"$f":"法人!$P$156","v":0},{"$f":"法人!$D$156","v":0},{"$f":"法人!$B$162","v":0},{"$f":"法人!$P$171","v":0},{"$f":"法人!P172","v":0},{"$f":"法人!P173","v":0},{"$f":"法人!P174","v":0},{"$f":"法人!$P$175","v":0},{"$f":"法人!P177","v":0},{"$f":"法人!P178","v":0},{"$f":"法人!P179","v":0},{"$f":"法人!P180","v":0},{"$f":"法人!P181","v":0},{"$f":"法人!$D$181","v":0},{"$f":"法人!$P$183","v":0},{"$f":"法人!$P$184","v":0},{"$f":"法人!$P$185","v":0},{"$f":"法人!P188","v":0},{"$f":"法人!Q188","v":0},{"$f":"法人!R188","v":0},{"$f":"法人!S188","v":0},{"$f":"法人!P189","v":0},{"$f":"法人!Q189","v":0},{"$f":"法人!R189","v":0},{"$f":"法人!S189","v":0},{"$f":"法人!T189","v":0},{"$f":"法人!$P$190","v":0},{"$f":"法人!$D$190","v":0},{"$f":"法人!$B$196","v":0},{"$f":"法人!$P$204","v":0},{"$f":"法人!$P$212","v":0},{"$f":"法人!P225","v":0},{"$f":"法人!D230","v":0},{"$f":"法人!P240","v":0},{"$f":"法人!D243","v":0},{"$f":"法人!D245","v":0},{"$f":"法人!P260","v":0},{"$f":"法人!Q260","v":0},{"$f":"法人!R260","v":0},{"$f":"法人!S260","v":0},{"$f":"法人!T260","v":0},{"$f":"法人!U260","v":0},{"$f":"法人!V260","v":0},{"$f":"法人!W260","v":0},{"$f":"法人!P261","v":0},{"$f":"法人!Q261","v":0},{"$f":"法人!R261","v":0},{"$f":"法人!S261","v":0},{"$f":"法人!T261","v":0},{"$f":"法人!U261","v":0},{"$f":"法人!V261","v":0},{"$f":"法人!W261","v":0},{"$f":"法人!P262","v":0},{"$f":"法人!Q262","v":0},{"$f":"法人!R262","v":0},{"$f":"法人!S262","v":0},{"$f":"法人!T262","v":0},{"$f":"法人!U262","v":0},{"$f":"法人!V262","v":0},{"$f":"法人!W262","v":0},{"$f":"法人!P263","v":0},{"$f":"法人!Q263","v":0},{"$f":"法人!R263","v":0},{"$f":"法人!S263","v":0},{"$f":"法人!T263","v":0},{"$f":"法人!U263","v":0},{"$f":"法人!V263","v":0},{"$f":"法人!W263","v":0},{"$f":"法人!P264","v":0},{"$f":"法人!Q264","v":0},{"$f":"法人!R264","v":0},{"$f":"法人!S264","v":0},{"$f":"法人!T264","v":0},{"$f":"法人!U264","v":0},{"$f":"法人!V264","v":0},{"$f":"法人!W264","v":0},{"$f":"法人!P265","v":0},{"$f":"法人!Q265","v":0},{"$f":"法人!R265","v":0},{"$f":"法人!S265","v":0},{"$f":"法人!T265","v":0},{"$f":"法人!U265","v":0},{"$f":"法人!V265","v":0},{"$f":"法人!W265","v":0},{"$f":"法人!P266","v":0},{"$f":"法人!Q266","v":0},{"$f":"法人!R266","v":0},{"$f":"法人!S266","v":0},{"$f":"法人!T266","v":0},{"$f":"法人!U266","v":0},{"$f":"法人!V266","v":0},{"$f":"法人!W266","v":0},{"$f":"法人!P267","v":0},{"$f":"法人!Q267","v":0},{"$f":"法人!R267","v":0},{"$f":"法人!S267","v":0},{"$f":"法人!T267","v":0},{"$f":"法人!U267","v":0},{"$f":"法人!V267","v":0},{"$f":"法人!W267","v":0},{"$f":"法人!P268","v":0},{"$f":"法人!Q268","v":0},{"$f":"法人!R268","v":0},{"$f":"法人!S268","v":0},{"$f":"法人!T268","v":0},{"$f":"法人!U268","v":0},{"$f":"法人!V268","v":0},{"$f":"法人!W268","v":0},{"$f":"法人!$C$268","v":0},{"$f":"法人!B273","v":0},{"$f":"法人!B274","v":0},{"$f":"法人!B275","v":0},{"$f":"法人!P287","v":0},{"$f":"法人!P288","v":0},{"$f":"法人!P289","v":0},{"$f":"法人!P290","v":0},{"$f":"法人!P291","v":0},{"$f":"法人!P292","v":0},{"$f":"法人!P293","v":0},{"$f":"法人!P294","v":0},{"$f":"法人!P295","v":0},{"$f":"法人!P296","v":0},{"$f":"法人!C294","v":0},{"$f":"法人!C295","v":0},{"$f":"法人!C296","v":0},{"$f":"法人!P300","v":0},{"$f":"法人!P301","v":0},{"$f":"法人!P302","v":0},{"$f":"法人!P303","v":0},{"$f":"法人!P304","v":0},{"$f":"法人!P305","v":0},{"$f":"法人!P306","v":0},{"$f":"法人!$D$306","v":0},{"$f":"法人!P310","v":0},{"$f":"法人!P311","v":0},{"$f":"法人!P312","v":0},{"$f":"法人!P313","v":0},{"$f":"法人!P314","v":0},{"$f":"法人!P315","v":0},{"$f":"法人!P316","v":0},{"$f":"法人!P317","v":0},{"$f":"法人!P318","v":0},{"$f":"法人!$D$318","v":0},{"$f":"法人!P324","v":0},{"$f":"法人!P325","v":0},{"$f":"法人!P326","v":0},{"$f":"法人!P327","v":false},{"$f":"法人!$D$327","v":0},{"$f":"法人!$P$333","v":false},{"$f":"法人!$P$334","v":false},{"$f":"法人!$P$335","v":false},{"$f":"法人!$P$336","v":false},{"$f":"法人!$D$336","v":0},{"$f":"法人!P345","v":0},{"$f":"法人!P346","v":0},{"$f":"法人!P347","v":0},{"$f":"法人!P348","v":0},{"$f":"法人!P349","v":0},{"$f":"法人!$D$349","v":0},{"$f":"法人!$B$358","v":0}]
[]
[]
[]
[]
[]
[]
[{"$nulls":4},"サービス名","参照座標"]
[]
[null,"北海道",null,null,"生活介護","E21:E36"]
[null,"青森県",null,null,"自立訓練（機能訓練）","F21:F33"]
[null,"岩手県",null,null,"自立訓練（生活訓練）","G21:G36"]
[null,"宮城県",null,null,"就労移行支援","E40:E57"]
[null,"秋田県",null,null,"就労継続支援（A型）","F40:F56"]
[null,"山形県",null,null,"就労継続支援（B型）","G40:G58"]
[null,"福島県"]
[null,"茨城県"]
[null,"栃木県",null,null,"生活介護","自立訓練（機能訓練）","自立訓練（生活訓練）"]
[null,"群馬県"]
[null,"埼玉県",null,null,"人員配置体制加算Ⅰ・Ⅱ・Ⅲ","福祉専門職員配置等加算Ⅰ・Ⅱ","福祉専門職員配置等加算Ⅰ・Ⅱ"]
[null,"千葉県",null,null,"福祉専門職員配置等加算Ⅰ・Ⅱ","視覚・聴覚言語障害者支援体制加算","視覚・聴覚言語障害者支援体制加算"]
[null,"東京都",null,null,"視覚・聴覚言語障害者支援体制加算","初期加算","初期加算"]
[null,"神奈川県",null,null,"初期加算","欠席時対応加算","欠席時対応加算"]
[null,"新潟県",null,null,"訪問支援特別加算（1時間未満／1時間以上）","リハビリテーション加算","医療連携体制加算Ⅰ・Ⅱ・Ⅲ・Ⅳ"]
[null,"富山県",null,null,"欠席時対応加算","利用者負担上限額管理加算","短期滞在加算Ⅰ・Ⅱ"]
[null,"石川県",null,null,"リハビリテーション加算","食事提供体制加算","障害障害者退院支援施設加算Ⅰ・Ⅱ"]
[null,"福井県",null,null,"利用者負担上限額管理加算","送迎加算","利用者負担上限額管理加算"]
[null,"山梨県",null,null,"食事提供体制加算","障害福祉サービスの体験利用支援加算","食事提供体制加算"]
[null,"長野県",null,null,"延長支援加算（1時間未満／1時間以上）","福祉・介護職員処遇改善加算Ⅰ・Ⅱ・Ⅲ","看護職員配置加算"]
[null,"岐阜県",null,null,"送迎加算","福祉・介護職員処遇改善特別加算","送迎加算"]
[null,"静岡県",null,null,"障害福祉サービスの体験利用支援加算","福祉・介護職員等特定処遇改善加算Ⅰ・Ⅱ","障害福祉サービスの体験利用支援加算"]
[null,"愛知県",null,null,"福祉・介護職員処遇改善加算Ⅰ・Ⅱ・Ⅲ",null,"福祉・介護職員処遇改善加算Ⅰ・Ⅱ・Ⅲ"]
[null,"三重県",null,null,"福祉・介護職員処遇改善特別加算",null,"福祉・介護職員処遇改善特別加算"]
[null,"滋賀県",null,null,"福祉・介護職員等特定処遇改善加算Ⅰ・Ⅱ",null,"福祉・介護職員等特定処遇改善加算Ⅰ・Ⅱ"]
[null,"京都府"]
[null,"大阪府"]
[null,"兵庫県",null,null,"就労移行支援","就労継続支援（A型）","就労継続支援（B型）"]
[null,"奈良県"]
[null,"和歌山県",null,null,"福祉専門職員配置等加算Ⅰ・Ⅱ","福祉専門職員配置等加算Ⅰ・Ⅱ","福祉専門職員配置等加算Ⅰ・Ⅱ"]
[null,"鳥取県",null,null,"就労支援関係研修修了加算","視覚・聴覚言語障害者支援体制加算","視覚・聴覚言語障害者支援体制加算"]
[null,"島根県",null,null,"視覚・聴覚言語障害者支援体制加算","重度者支援体制加算Ⅰ・Ⅱ・Ⅲ","重度者支援体制加算Ⅰ・Ⅱ・Ⅲ"]
[null,"岡山県",null,null,"初期加算","初期加算","初期加算"]
[null,"広島県",null,null,"訪問支援特別加算（1時間未満／1時間以上）","訪問支援特別加算（1時間未満／1時間以上）","訪問支援特別加算（1時間未満／1時間以上）"]
[null,"山口県",null,null,"欠席時対応加算","欠席時対応加算","欠席時対応加算"]
[null,"徳島県",null,null,"就労移行支援体制加算（1）（2）（3）（4）（5）","就労移行支援体制加算","就労移行支援体制加算"]
[null,"香川県",null,null,"医療連携体制加算Ⅰ・Ⅱ・Ⅲ・Ⅳ","施設外就労加算","目標工賃達成加算Ⅰ・Ⅱ"]
[null,"愛媛県",null,null,"精神障害者退院支援施設加算Ⅰ・Ⅱ","医療連携体制加算Ⅰ・Ⅱ・Ⅲ・Ⅳ","目標工賃達成指導員配置加算（1）（2）（3）（4）（5）"]
[null,"高知県",null,null,"利用者負担上限額管理加算","利用者負担上限額管理加算","施設外就労加算"]
[null,"福岡県",null,null,"食事提供体制加算","食事提供体制加算","医療連携体制加算Ⅰ・Ⅱ・Ⅲ・Ⅳ"]
[null,"佐賀県",null,null,"移行準備支援体制加算Ⅰ・Ⅱ","送迎加算","利用者負担上限額管理加算"]
[null,"長崎県",null,null,"送迎加算","障害福祉サービスの体験利用支援加算","食事提供体制加算"]
[null,"熊本県",null,null,"障害福祉サービスの体験利用支援加算","福祉・介護職員処遇改善加算Ⅰ・Ⅱ・Ⅲ","送迎加算"]
[null,"大分県",null,null,"福祉・介護職員処遇改善加算Ⅰ・Ⅱ・Ⅲ","福祉・介護職員処遇改善特別加算","障害福祉サービスの体験利用支援加算"]
[null,"宮崎県",null,null,"福祉・介護職員処遇改善特別加算","福祉・介護職員等特定処遇改善加算Ⅰ・Ⅱ","福祉・介護職員処遇改善加算Ⅰ・Ⅱ・Ⅲ"]
[null,"鹿児島県",null,null,"福祉・介護職員等特定処遇改善加算Ⅰ・Ⅱ",null,"福祉・介護職員処遇改善特別加算"]
[null,"沖縄県",{"$nulls":4},"福祉・介護職員等特定処遇改善加算Ⅰ・Ⅱ"]